BEGIN:VCALENDAR
VERSION:2.0
PRODID:-//Norsk forening for gastroenterologisk kirurgi - ECPv6.15.20//NONSGML v1.0//EN
CALSCALE:GREGORIAN
METHOD:PUBLISH
X-WR-CALNAME:Norsk forening for gastroenterologisk kirurgi
X-ORIGINAL-URL:https://www.gastrokirurgi.no
X-WR-CALDESC:Events for Norsk forening for gastroenterologisk kirurgi
REFRESH-INTERVAL;VALUE=DURATION:PT1H
X-Robots-Tag:noindex
X-PUBLISHED-TTL:PT1H
BEGIN:VTIMEZONE
TZID:Europe/Oslo
BEGIN:DAYLIGHT
TZOFFSETFROM:+0100
TZOFFSETTO:+0200
TZNAME:CEST
DTSTART:20250330T010000
END:DAYLIGHT
BEGIN:STANDARD
TZOFFSETFROM:+0200
TZOFFSETTO:+0100
TZNAME:CET
DTSTART:20251026T010000
END:STANDARD
BEGIN:DAYLIGHT
TZOFFSETFROM:+0100
TZOFFSETTO:+0200
TZNAME:CEST
DTSTART:20260329T010000
END:DAYLIGHT
BEGIN:STANDARD
TZOFFSETFROM:+0200
TZOFFSETTO:+0100
TZNAME:CET
DTSTART:20261025T010000
END:STANDARD
BEGIN:DAYLIGHT
TZOFFSETFROM:+0100
TZOFFSETTO:+0200
TZNAME:CEST
DTSTART:20270328T010000
END:DAYLIGHT
BEGIN:STANDARD
TZOFFSETFROM:+0200
TZOFFSETTO:+0100
TZNAME:CET
DTSTART:20271031T010000
END:STANDARD
END:VTIMEZONE
BEGIN:VEVENT
DTSTART;TZID=Europe/Oslo:20260528T110000
DTEND;TZID=Europe/Oslo:20260529T130000
DTSTAMP:20260420T033150
CREATED:20260328T174254Z
LAST-MODIFIED:20260328T174517Z
UID:1903-1779966000-1780059600@www.gastrokirurgi.no
SUMMARY:7th National Meeting on Robotic-Assisted Abdominal & Gastrointestinal Surgery
DESCRIPTION:Velkommen til det 7. nasjonale møtet om robotassistert abdominal- og gastrointestinal kirurgi i Stavanger!\n\nTid og sted: 28.–29. mai 2026\, Sola Strand Hotel\, Stavanger\n\n\nMøtet samler ledende nasjonale og internasjonale fagmiljøer til faglig oppdatering\, erfaringsutveksling og diskusjon om sentrale temaer innen robotkirurgi. Programmet spenner fra bariatrisk kirurgi\, gastrointestinal-\, galleveis- og pankreaskirurgi til brokk- og akuttkirurgi\, og inkluderer erfaringer med ulike robotsystemer\, samt utdanning og trening i robotassistert kirurgi.\nDette blir en viktig møteplass for alle som ønsker økt innsikt i dagens praksis og fremtidens utvikling innen feltet.\nPåmelding er nå åpen:\nhttps://www.letsreg.com/no/register/7thnationalmeetingforroboticassistedabdominalgastrointestinalsurgery_06032026021228\nPraktisk informasjon om overnatting\nSola Strand Hotel ligger idyllisk ved sanddynene på Solastranden\, kun 2 km fra Stavanger lufthavn Sola (taxi ca. 5–10 min).\nAdresse: Axel Lunds vei 27\, 4050 Sola\nDersom du ønsker å ha med ektefelle eller annen følge på rommet\, medfører dette et tillegg på 200 kr per natt\, betales direkte til hotellet ved innsjekk.\n\nSe vedlagt dokument for detaljert programoversikt. \n\nVilkår:\n\n\nPåmelding er bindende.\n\n\nForce Majeure: Hendelser utenfor vår kontroll\, som (men ikke begrenset til) streik\, lockout\, brann eller pandemi\, gir oss rett til å avlyse arrangementet uten erstatningsansvar.\n\n\nFrist for påmelding: 1 Mai 2026\nVi ser frem til å ønske deg velkommen til Stavanger i mai!\nMed vennlig hilsen\,\nArrangementskomiteen
URL:https://www.gastrokirurgi.no/event/1903/
LOCATION:Sola Strand Hotel Bergen\, Axel Lunds veg 27\, Sola\, 4055\, Norway
ATTACH;FMTTYPE=image/png:https://www.gastrokirurgi.no/wp-content/uploads/2026/03/image.png
END:VEVENT
BEGIN:VEVENT
DTSTART;TZID=Europe/Oslo:20260601T090000
DTEND;TZID=Europe/Oslo:20260602T150000
DTSTAMP:20260420T033150
CREATED:20260320T180950Z
LAST-MODIFIED:20260320T180950Z
UID:1897-1780304400-1780412400@www.gastrokirurgi.no
SUMMARY:Nordic Early Colorectal Cancer Meeting (NERC)
DESCRIPTION:We are delighted to welcome you to the traditional Solstrand meeting\, hosted in the beautiful surroundings of the historic Solstrand Hotel\, just outside Bergen\, Norway. \nThe Nordic Early Rectal Cancer (NERC) meeting was first established in 2006 as TEM Scandinavia\, a dedicated bi-annual forum focused on the multidisciplinary management of early rectal cancer. From its inception\, NERC has been a unique platform for gathering leading experts from surgery\, radiology\, pathology\, oncology\, and interventional endoscopy to foster collaboration\, innovation\, and in-depth discussions in early cancer care. \nAfter the most recent meeting in 2018\, the planned 2020 edition was unfortunately cancelled due to the COVID-19 pandemic. Since then\, the field of early colorectal cancer has seen significant advancements. The implementation of screening programs has led to an increase in the detection of early-stage colorectal cancers\, while progress in diagnostics and organ-preserving strategies continues to reshape treatment options. With the introduction of techniques such as endoscopic submucosal dissection (ESD) and full-thickness resection\, local excision is now a viable option for early-stage colon cancer as well. \nRecognizing these developments\, we are proud to announce the revival of NERC\, now with an expanded scope to include both early colon and rectal cancer. Today\, interventional endoscopists play a central role in the treatment of early cancers\, alongside surgeons\, oncologists\, radiologists\, and pathologists. NERC continues to emphasize a multidisciplinary approach\, focusing on individualized\, evidence-based\, and organ-preserving treatment strategies while building on its strong legacy. \nNERC is renowned for its high-quality\, interactive scientific program and open discussions in a welcoming and relaxed atmosphere. The Solstrand Hotel\, one of Norway’s oldest family-run hotels\, provides the perfect setting for meaningful dialogue\, networking\, and collaboration. \nWe are confident that this year’s program both honors the rich tradition of NERC and reflects the future direction of early colorectal cancer management. \nJoin us for an inspiring meeting and a unique experience in the heart of Norway!
URL:https://www.gastrokirurgi.no/event/nordic-early-colorectal-cancer-meeting-nerc/
LOCATION:Solastrand Hotel Bergen\, Solstrandvegen 200\, Bergen\, 5200\, Norway
ATTACH;FMTTYPE=image/png:https://www.gastrokirurgi.no/wp-content/uploads/2026/03/Skjermbilde-2026-03-20-kl.-19.08.41.png
END:VEVENT
END:VCALENDAR